BEGIN:VCALENDAR
VERSION:2.0
PRODID:-//eventon.com NONSGML v1.0//EN
CALSCALE:GREGORIAN
METHOD:PUBLISH
BEGIN:VEVENT
UID:69e63814b73e5
DTSTAMP:20260420T142836Z
DTSTART:20260422T143000Z
DTEND:20260422T180000Z
LOCATION:Gute Geschichte Raum - ece Eingang gegenüber Bahnhof Kapfenberg Wienerstrasse 35a\,  8605 Kapfenberg
SUMMARY:Einfach realistisch zeichnen lernen - Schnupper-Workshop - Verschoben auf 15.05.!!!
DESCRIPTION:VERSCHOBEN auf 15.05.!!! Bei diesem kostenlosen Schnupper-Works
 hop bekommst du Einblicke und wertvolle Praxistipps ins realistische Zeichn
 en. 16:30 &#8211; 18:00: für Kinder ab 10 Jahren 18:30 &#8211; 20:00: für
  Erwachsene Mitzubringen sind: HB und 4B Bleistift\,  Radiergummi\,  Spitze
 r\,  Din A4 Papier oder – Block. Anmeldung bei Stefanie Rößl unter:&nbs
 p;info.creativeartpoint@gmail.com\nhttps://gute-geschichte.at/events/schnup
 per-workshop-einfach-realistisch-zeichnen-lernen/
URL:https://gute-geschichte.at/events/schnupper-workshop-einfach-realistisch-zeichnen-lernen/
END:VEVENT
END:VCALENDAR