BEGIN:VCALENDAR
VERSION:2.0
PRODID:-//eventon.com NONSGML v1.0//EN
CALSCALE:GREGORIAN
METHOD:PUBLISH
BEGIN:VEVENT
UID:69e760a339b05
DTSTAMP:20260421T113355Z
DTSTART:20260504T150000Z
DTEND:20260504T163000Z
LOCATION:Gute Geschichte Raum - ece Eingang gegenÃ¼ber Bahnhof Kapfenberg Wienerstrasse 35a\,  8605 Kapfenberg
SUMMARY:Gesundheitsvortrag: PrÃ¤diabetes verstÃ¤ndlich erklÃ¤rt
DESCRIPTION:Unter dem TitelÂ â€žZucker im Griff â€“ einfach erklÃ¤rtâ€œÂ lÃ
 ¤dt dasÂ ProjektÂ aktiv &amp; inklusivÂ der Lebenshilfe Bruck-KapfenbergÂ g
 emeinsam mit denÂ Community Nurses und dem Verein Gute GeschichteÂ zu einem
  informativen Gesundheitsvortrag zum Thema PrÃ¤diabetes ein. Die Veranstalt
 ung findet amÂ Montag\,  04. Mai 2026 um 17:00 UhrÂ imÂ Gute Geschichte Rau
 m im ece KapfenbergÂ statt. aktiv &amp; inklusiv&nbsp;steht fÃ¼r niederschw
 ellige Gesundheitsangebote\,  die[..]\nhttps://gute-geschichte.at/events/ge
 sundheitsvortrag-praediabetes-verstaendlich-erklaert/
URL:https://gute-geschichte.at/events/gesundheitsvortrag-praediabetes-verstaendlich-erklaert/
END:VEVENT
END:VCALENDAR