BEGIN:VCALENDAR
VERSION:2.0
PRODID:-//eventon.com NONSGML v1.0//EN
CALSCALE:GREGORIAN
METHOD:PUBLISH
BEGIN:VEVENT
UID:69e9daec2f936
DTSTAMP:20260423T084012Z
DTSTART:20260506T143000Z
DTEND:20260506T161000Z
LOCATION:Eiscafé Cortina (im EG des ece Kapfenberg) Wiener Straße 35a
SUMMARY:Spanisch - Sprachencafe
DESCRIPTION:Gemeinsam mit der Volkshochschule Steiermark laden wir euch her
 zlich zum kostenlosen Spanisch &#8211; Sprachencafe ein. Dieses findet jede
 n ersten Mittwoch des Monats im Eiscafé Cortina (im EG des ece Kapfenberg)
  von 16:30 &#8211; 18:10 statt. Es ist keine Anmeldung erforderlich! &#8211
 ; einfach vorbeikommen und gemeinsam spielend Spanisch erlernen.\nhttps://g
 ute-geschichte.at/events/spanisch-sprachencafe-8/
URL:https://gute-geschichte.at/events/spanisch-sprachencafe-8/
END:VEVENT
END:VCALENDAR