BEGIN:VCALENDAR
VERSION:2.0
PRODID:-//eventon.com NONSGML v1.0//EN
CALSCALE:GREGORIAN
METHOD:PUBLISH
BEGIN:VEVENT
UID:69e76082e7209
DTSTAMP:20260421T113322Z
DTSTART:20260507T160000Z
DTEND:20260507T180000Z
LOCATION:ece Kapfenberg Wiener Straße 35a
SUMMARY:Dialogkreis: Let's talk about...
DESCRIPTION:Wir freuen uns sehr euch eine neue Gute Geschichte vorzustellen
 . Let&#8217;s talk about&#8230; ist ein Dialogkreis für ein gelingendes Mi
 teinander. In einer kleinen Runde von max. 10 Teilnehmer*innen entsteht ein
  Raum für echtes Zuhören und bewusste Verbindung. Thema des Abend: Wie wi
 ll ich mit Konflikten umgehen? Datum: Do 07.05. von[..]\nhttps://gute-gesch
 ichte.at/events/dialogkreis-lets-talk-about/
URL:https://gute-geschichte.at/events/dialogkreis-lets-talk-about/
END:VEVENT
END:VCALENDAR