BEGIN:VCALENDAR
VERSION:2.0
PRODID:-//eventon.com NONSGML v1.0//EN
CALSCALE:GREGORIAN
METHOD:PUBLISH
BEGIN:VEVENT
UID:69e7750e8b99c
DTSTAMP:20260421T130102Z
DTSTART:20260508T140000Z
DTEND:20260508T170000Z
LOCATION:Gute Geschichte Raum - ece Eingang gegenüber Bahnhof Kapfenberg Wienerstrasse 35a\,  8605 Kapfenberg
SUMMARY:Tanzen mit Live-Musik
DESCRIPTION:Für alle Tanzliebhaber*innen geht&#8217;s im Mai wieder rund. 
 Zu hören gibts Tanz- und Unterhaltungsmusik auf Bestellung von &#8220;Papa
  Joe&#8221; Ikarus Revival alias Josef Schieber. Lasst eure Musikseelen und
  Tanzbeine bewegen! Eintritt: Freiwillige Spende! Für Drinks und kleine Sn
 acks ist gesorgt. Mehr Infos findet ihr hier unter: https://www.ikarus-revi
 val.at\nhttps://gute-geschichte.at/events/tanzen-mit-live-musik-7/
URL:https://gute-geschichte.at/events/tanzen-mit-live-musik-7/
END:VEVENT
END:VCALENDAR