BEGIN:VCALENDAR
VERSION:2.0
PRODID:-//eventon.com NONSGML v1.0//EN
CALSCALE:GREGORIAN
METHOD:PUBLISH
BEGIN:VEVENT
UID:69e77519c45e0
DTSTAMP:20260421T130113Z
DTSTART:20260509T070000Z
DTEND:20260509T101500Z
LOCATION:Gute Geschichte Raum - ece Eingang gegenüber Bahnhof Kapfenberg Wienerstrasse 35a\,  8605 Kapfenberg
SUMMARY:Tanzworkshop: Musical Showdance
DESCRIPTION:Für alle Kids\,  die Freude an Tanz und Bewegung haben. Gemein
 sam tanzen wir zu coolen Songs und erarbeiten eine kleine Choreografie mit 
 ganz viel Schwung\,  Ausdruck und Bühnenpräsenz. Datum : Sa 09.05. 09:00
  &#8211; 10:30 für Kids (+8 Jahre) und 10:45 &#8211; 12:15 für Teens (+12
  Jahre) Ort: Gute Geschichte Raum[..]\nhttps://gute-geschichte.at/events/ta
 nzworkshop-musical-showdance-fuer-kids-teens/
URL:https://gute-geschichte.at/events/tanzworkshop-musical-showdance-fuer-kids-teens/
END:VEVENT
END:VCALENDAR