BEGIN:VCALENDAR
VERSION:2.0
PRODID:-//eventon.com NONSGML v1.0//EN
CALSCALE:GREGORIAN
METHOD:PUBLISH
BEGIN:VEVENT
UID:69e7751ad9c7f
DTSTAMP:20260421T130114Z
DTSTART:20260513T131500Z
DTEND:20260513T141500Z
LOCATION:Gute Geschichte Raum - ece Eingang gegenüber Bahnhof Kapfenberg Wienerstrasse 35a\,  8605 Kapfenberg
SUMMARY:Mentale Schwangerschaftsbegleitung
DESCRIPTION:Für alle werdenden Mütter ab sofort im 14 Tage-Rhythmus direk
 t nach dem Schwangerschafts-Yoga! Mit Leichtigkeit und Vertrauen durch dies
 e besondere Zeit.Ängste loslassen\,  innere Ruhe und Kraft erleben unddie 
 besondere Verbindung zu deinem Kind spüren. Ab Mi 13.05. 15:15 &#8211; 16:
 15 alle 14 Tage! Ort: Gute Geschichte Raum (ece Eingang gegenüber[..]\nhtt
 ps://gute-geschichte.at/events/mentale-schwangerschaftsbegleitung/
URL:https://gute-geschichte.at/events/mentale-schwangerschaftsbegleitung/
END:VEVENT
END:VCALENDAR