BEGIN:VCALENDAR
VERSION:2.0
PRODID:-//eventon.com NONSGML v1.0//EN
CALSCALE:GREGORIAN
METHOD:PUBLISH
BEGIN:VEVENT
UID:69e775a90a74a
DTSTAMP:20260421T130337Z
DTSTART:20260515T070000Z
DTEND:20260515T120000Z
LOCATION:Gute Geschichte Raum - ece Eingang gegenÃ¼ber Bahnhof Kapfenberg Wienerstrasse 35a\,  8605 Kapfenberg
SUMMARY:Rounddance
DESCRIPTION:Round Dance&nbsp;ist eine ursprÃ¼nglich amerikanische Form des 
 Gesellschaftstanzes\,  ein Paartanz\,  bei dem die Tanzpaare zu den Schritt
 ansagen der Tanzleiter*in zeitgleich am Rande der TanzflÃ¤che entlang die T
 anzschritte ausfÃ¼hren. Die dabei entstehende Form sieht\,  je nach TanzflÃ
 ¤che kreisfÃ¶rmig aus. Daher kommt der Begriff â€žRoundâ€œ. Getanzt werden:
  Two-step\,  Walzer\,  Rumba\,  Cha-Cha-Cha Voraussetzung[..]\nhttps://gute
 -geschichte.at/events/rounddance-5/
URL:https://gute-geschichte.at/events/rounddance-5/
END:VEVENT
END:VCALENDAR