BEGIN:VCALENDAR
VERSION:2.0
PRODID:-//eventon.com NONSGML v1.0//EN
CALSCALE:GREGORIAN
METHOD:PUBLISH
BEGIN:VEVENT
UID:69e775a2be551
DTSTAMP:20260421T130330Z
DTSTART:20260516T120000Z
DTEND:20260516T180000Z
LOCATION:Gute Geschichte Raum - ece Eingang gegenÃ¼ber Bahnhof Kapfenberg Wienerstrasse 35a\,  8605 Kapfenberg
SUMMARY:Systemische Familienaufstellung
DESCRIPTION:Bei der Familienaufstellung geht es darum\,  alte Verstrickunge
 n\,  Muster und prÃ¤genden Prozesse zu lÃ¶sen\,  Blockaden zu befreien und 
 den Fluss der Energie wieder zu ermÃ¶glichen\,  um so mit mehr Freude und L
 eichtigkeit durchs Leben zu gehen. Pro Termin gibt es 3 Aufstellungen! Ener
 gieausgleich (inkl. vegetarischer Verpflegung!) FÃ¼r Aufsteller*innen 180â‚
 ¬ regulÃ¤r[..]\nhttps://gute-geschichte.at/events/systemische-familienaufst
 ellung-13/
URL:https://gute-geschichte.at/events/systemische-familienaufstellung-13/
END:VEVENT
END:VCALENDAR