BEGIN:VCALENDAR
VERSION:2.0
PRODID:-//eventon.com NONSGML v1.0//EN
CALSCALE:GREGORIAN
METHOD:PUBLISH
BEGIN:VEVENT
UID:69e775c4f3d89
DTSTAMP:20260421T130404Z
DTSTART:20260520T163000Z
DTEND:20260520T180000Z
LOCATION:Gute Geschichte Raum - ece Eingang gegenüber Bahnhof Kapfenberg Wienerstrasse 35a\,  8605 Kapfenberg
SUMMARY:Meditationsabend mit Shivani K. Kapuria
DESCRIPTION:Deine Erwartungen an die Liebe – in deiner Beziehung und in d
 einer Sehnsucht.Was du gibst\,  was du erwartest – und was dazwischen ent
 steht. In meiner Meditation erkennst du\,  was du in Beziehungen einbringst
  – bewusst und unbewusst.Zum Beispiel: Du wünschst dir Nähe und Aufmerk
 samkeit\,  sprichst es aber nicht klar aus[..]\nhttps://gute-geschichte.at/
 events/meditationsabend/
URL:https://gute-geschichte.at/events/meditationsabend/
END:VEVENT
END:VCALENDAR