BEGIN:VCALENDAR
VERSION:2.0
PRODID:-//eventon.com NONSGML v1.0//EN
CALSCALE:GREGORIAN
METHOD:PUBLISH
BEGIN:VEVENT
UID:69e8c6e42cab2
DTSTAMP:20260422T130228Z
DTSTART:20260520T163000Z
DTEND:20260520T180000Z
LOCATION:Gute Geschichte Raum - ece Eingang gegenüber Bahnhof Kapfenberg Wienerstrasse 35a\,  8605 Kapfenberg
SUMMARY:Meditationsabend - Beziehung bewusst leben
DESCRIPTION:Deine Erwartungen an die Liebe – in deiner Beziehung und in d
 einer Sehnsucht.Was du gibst\,  was du erwartest – und was dazwischen ent
 steht. In meiner Meditation erkennst du\,  was du in Beziehungen einbringst
  – bewusst und unbewusst.Zum Beispiel: Du wünschst dir Nähe und Aufmerk
 samkeit\,  sprichst es aber nicht klar aus[..]\nhttps://gute-geschichte.at/
 events/meditationsabend/
URL:https://gute-geschichte.at/events/meditationsabend/
END:VEVENT
END:VCALENDAR