BEGIN:VCALENDAR
VERSION:2.0
PRODID:-//eventon.com NONSGML v1.0//EN
CALSCALE:GREGORIAN
METHOD:PUBLISH
BEGIN:VEVENT
UID:69e8c66777af6
DTSTAMP:20260422T130023Z
DTSTART:20260522T150000Z
DTEND:20260522T163000Z
LOCATION:Gute Geschichte Raum - ece Eingang gegenüber Bahnhof Kapfenberg Wienerstrasse 35a\,  8605 Kapfenberg
SUMMARY:Heilsames Singen
DESCRIPTION:Heilsames Singen ist eine einfache und zugleich kraftvolle Mög
 lichkeit\,  zur Ruhe zu kommen und neue Energie zu schöpfen. In einer offe
 nen und wertschätzenden Atmosphäre singen wir gemeinsam leicht erlernbare
  Lieder aus verschiedenen Kulturen – ganz ohne Leistungsdruck oder musika
 lische Vorkenntnisse. Die wiederholenden Melodien und Klänge wirken entspa
 nnend\,  können Stress reduzieren[..]\nhttps://gute-geschichte.at/events/h
 eilsames-singen/
URL:https://gute-geschichte.at/events/heilsames-singen/
END:VEVENT
END:VCALENDAR