BEGIN:VCALENDAR
VERSION:2.0
PRODID:-//eventon.com NONSGML v1.0//EN
CALSCALE:GREGORIAN
METHOD:PUBLISH
BEGIN:VEVENT
UID:69e8c63519905
DTSTAMP:20260422T125933Z
DTSTART:20260529T140000Z
DTEND:20260529T173000Z
LOCATION:Gute Geschichte Raum - ece Eingang gegenüber Bahnhof Kapfenberg Wienerstrasse 35a\,  8605 Kapfenberg
SUMMARY:Party für Menschen mit Handicap
DESCRIPTION:Es ist wieder Party-Time in der Guten Geschichte! Dazu gibt es 
 Musik von Peter Köstenberger aka. DJ Partyhirsch und Getränke! Für die l
 eibliche Kost ist auch gesorgt! Achtung: Wir weisen ausdrücklich darauf hi
 n\,  dass selbst mitgebrachte Speisen und Getränke nicht erwünscht sind! 
 Datum: 29.05. 16:00 &#8211; 19:30 Eintritt: Freiwillige Spende![..]\nhttps:
 //gute-geschichte.at/events/party-fuer-menschen-mit-handicap-10/
URL:https://gute-geschichte.at/events/party-fuer-menschen-mit-handicap-10/
END:VEVENT
END:VCALENDAR