BEGIN:VCALENDAR
VERSION:2.0
PRODID:-//eventon.com NONSGML v1.0//EN
CALSCALE:GREGORIAN
METHOD:PUBLISH
BEGIN:VEVENT
UID:69ea432c318c3
DTSTAMP:20260423T160500Z
DTSTART:20260527T160000Z
DTEND:20260527T180000Z
LOCATION:Gute Geschichte Raum - ece Eingang gegenÃ¼ber Bahnhof Kapfenberg Wienerstrasse 35a\,  8605 Kapfenberg
SUMMARY:Vortrag & Austausch: Die Kunst des Liebens
DESCRIPTION:Ist Lieben eine Kunst? Und wenn ja\,  ist sie dann nicht nur KÃ
 ¼nstlern vorbehalten? Oder kann man ein Kunstwerk erlernen? Ist Liebe ein G
 efÃ¼hl oder eine Haltung? Gibt es verschiedene Formen der Liebe\,  oder gib
 t es verschiedene Beziehungen?Liebe und SexualitÃ¤t â€“ von VerhÃ¤ltnissen\
 ,  Beziehungen und PartnerschaftWas ist Selbstliebe\,  was ist[..]\nhttps:/
 /gute-geschichte.at/events/vortrag-austausch-die-kunst-des-liebens/
URL:https://gute-geschichte.at/events/vortrag-austausch-die-kunst-des-liebens/
END:VEVENT
END:VCALENDAR