BEGIN:VCALENDAR
VERSION:2.0
PRODID:-//eventon.com NONSGML v1.0//EN
CALSCALE:GREGORIAN
METHOD:PUBLISH
BEGIN:VEVENT
UID:69ecb879c5e1b
DTSTAMP:20260425T125001Z
DTSTART:20260513T163000Z
DTEND:20260513T180000Z
LOCATION:
SUMMARY:Klang & Stille - Yoga Nidra
DESCRIPTION:Eine Reise durch den Körper Im Alltag kommen wir selten in ein
 en Zustand wirklicher Entspannung – selbst im Schlaf arbeitet unser Geist
  weiter\,  Gedanken und Spannungen wirken nach.Yoga Nidra\,  eine jahrtause
 ndealte Form der geführten Tiefenentspannung\,  schafft einen Raum\,  in d
 em du deine innere Ruhe und Weite wieder spüren kannst. Dieser[..]\nhttps:
 //gute-geschichte.at/events/klang-stille-yoga-nidra/
URL:https://gute-geschichte.at/events/klang-stille-yoga-nidra/
END:VEVENT
END:VCALENDAR